BEGIN:VCALENDAR
VERSION:2.0
PRODID:-//Opulent Events by Gracie &trade; - ECPv5.14.1//NONSGML v1.0//EN
CALSCALE:GREGORIAN
METHOD:PUBLISH
X-WR-CALNAME:Opulent Events by Gracie &trade;
X-ORIGINAL-URL:https://gracie-events.com
X-WR-CALDESC:Events for Opulent Events by Gracie &trade;
BEGIN:VTIMEZONE
TZID:America/New_York
BEGIN:DAYLIGHT
TZOFFSETFROM:-0500
TZOFFSETTO:-0400
TZNAME:EDT
DTSTART:20210314T070000
END:DAYLIGHT
BEGIN:STANDARD
TZOFFSETFROM:-0400
TZOFFSETTO:-0500
TZNAME:EST
DTSTART:20211107T060000
END:STANDARD
END:VTIMEZONE
BEGIN:VEVENT
DTSTART;TZID=America/New_York:20210421T120000
DTEND;TZID=America/New_York:20210421T140000
DTSTAMP:20260424T113208
CREATED:20210405T200154Z
LAST-MODIFIED:20210405T200739Z
UID:5622-1619006400-1619013600@gracie-events.com
SUMMARY:How to Plan Amazing Weddings for the Next Normal
DESCRIPTION:FREE for the 1st 100 registrants! \nAre you ready for the next normal? The wedding industry is springing back into life\, and it's time to go big and get creative. Join leading industry experts at this virtual event for all the answers and information you need to plan your clients' perfect big day. \nFrom new safety guidelines to the liability questions you need to know and to ask\, all the way through to the hottest trends and inspirational ideas for even the smallest weddings\, we have it all. It's time to think outside the box\, and this unmissable event will join the dots so you can present amazing ideas to your clients. \nNetwork with new contacts\, enjoy the entertainment\, and get your notebooks ready as we bring you the ultimate toolkit for the wedding industry's next normal. We look forward to seeing you there! \n\nWhat you’ll get from this event: \n\nProfiting During a Pandemic\nGetting Comfortable with the Next Normal\nWhen weddings get smaller it's time to think bigger.\nWedding Trends for the Next Normal\nSales Ideas for the Next Normal\nMarketing Ideas for the Next Normal\nLiability for Vendors with the Newest Norm\nEmotional Intelligence and Wellness for the Wedding Pros\nEntertainment Ideas when you can't pack the dance floor.\n\nThe target audience for this event is: \n\nWedding Professionals (florists\, baker\, officiants….etc.)\nWedding Planners & Coordinators\nWedding Influencers\nWedding Designers\n\n\nLive Entertainment by Acute Inflections
URL:https://gracie-events.com/event/how-to-plan-amazing-weddings-for-the-next-normal/
LOCATION:Virtual
CATEGORIES:Virtual Event
ORGANIZER;CN="Opulent%20Events%20by%20Gracie":MAILTO:info@opulenteventsbygracie.com
END:VEVENT
END:VCALENDAR