BEGIN:VCALENDAR
VERSION:2.0
PRODID:-//Opulent Events by Gracie &trade; - ECPv5.14.1//NONSGML v1.0//EN
CALSCALE:GREGORIAN
METHOD:PUBLISH
X-WR-CALNAME:Opulent Events by Gracie &trade;
X-ORIGINAL-URL:https://gracie-events.com
X-WR-CALDESC:Events for Opulent Events by Gracie &trade;
BEGIN:VTIMEZONE
TZID:UTC
BEGIN:STANDARD
TZOFFSETFROM:+0000
TZOFFSETTO:+0000
TZNAME:UTC
DTSTART:20200101T000000
END:STANDARD
END:VTIMEZONE
BEGIN:VEVENT
DTSTART;TZID=UTC:20200209T080000
DTEND;TZID=UTC:20200209T170000
DTSTAMP:20260424T151508
CREATED:20200131T061730Z
LAST-MODIFIED:20200131T061730Z
UID:5027-1581235200-1581267600@gracie-events.com
SUMMARY:Oscar After Party - Madonna
DESCRIPTION:Event details:\nMadonna's After Party \n\n\nDate: Sunday\, February 9th\, 2020 \nAlso very exclusive\, starts late and goes very late.  Let us know if you are interested and we will get you specific details and availability. \nCost: $ 70\,500 per person \n\nClub membership can put you right in the heart of all the action with Oscars Party Tickets. You can mingle with stars and industry professionals all night.\nInquire about the Award shows & Parties and we will provide:\n\nParty Details\nCharter Jet services\n\nLuxury Car services\n\nLuxury Hotel Accommodations \n\nReal Estate Rentals\n\nParty Services\n\nTickets are first come first serve.\n\n\nClub Members ONLY!\nStart booking NOW!\n\nRelax while we do the work!\n\n**As a member you are responsible for the details on this site.  The information shared is for your purpose only and not to be shared.
URL:https://gracie-events.com/event/oscar-after-party-madonna/
LOCATION:Hollywood\, United States
CATEGORIES:Club Members ONLY
ORGANIZER;CN="Opulent%20Events%20by%20Gracie":MAILTO:info@opulenteventsbygracie.com
END:VEVENT
END:VCALENDAR