BEGIN:VCALENDAR
VERSION:2.0
PRODID:-//Opulent Events by Gracie &trade; - ECPv5.14.1//NONSGML v1.0//EN
CALSCALE:GREGORIAN
METHOD:PUBLISH
X-WR-CALNAME:Opulent Events by Gracie &trade;
X-ORIGINAL-URL:https://gracie-events.com
X-WR-CALDESC:Events for Opulent Events by Gracie &trade;
BEGIN:VTIMEZONE
TZID:UTC
BEGIN:STANDARD
TZOFFSETFROM:+0000
TZOFFSETTO:+0000
TZNAME:UTC
DTSTART:20200101T000000
END:STANDARD
END:VTIMEZONE
BEGIN:VEVENT
DTSTART;TZID=UTC:20200209T080000
DTEND;TZID=UTC:20200209T170000
DTSTAMP:20260424T152114
CREATED:20200131T030310Z
LAST-MODIFIED:20200131T030427Z
UID:5016-1581235200-1581267600@gracie-events.com
SUMMARY:Oscar Viewing Dinner/Party
DESCRIPTION:Event details:\nMercedes Benz Oscar Viewing Dinner/Party\n\nDate: Sunday\, February 9th\, 2020 \nWhen:  \n3:30PM: Red Carpet Reception \n5PM: Live Telecast and Seated Dinner \n8:30PM: Afterparty \nLocation: Four Seasons Hotel\, Beverly Hills\, CA\nDescription: 2019 Guests included: Anthony Anderson\, Anne Winters\, Billy Eichner\, Camille Grammar\, Charli XCX\, Chrissy Metz\, Calum Worthy\, Dan Stevens\, David Alan Grier\, Diablo Cody\, Estelle\, Gabrielle Union\, Gregory Siff\, Ian Reed Kesler\, Jeanine Mason\, Karamo Brown\, Kelly Rowland\, Lilan Bowden\, Loni Love\, Martha Stewart\, Mykelti Williamson\, Navid Negahban\, Quincy Jones\, Ron "Meta World Peace" Artest\, Sherri Shepherd\, Taryn Manning\, Terry Crews\, Tracee Ellis Ross\, and Trent Garret.\nCost: $ 4\,240 per person \n\n\nClub membership can put you right in the heart of all the action with Oscars Party Tickets. You can mingle with stars and industry professionals all night.\nInquire about the Award shows & Parties and we will provide:\n\nParty Details\nCharter Jet services\n\nLuxury Car services\n\nLuxury Hotel Accommodations \n\nReal Estate Rentals\n\nParty Services\n\nTickets are first come first serve.\n\n\nClub Members ONLY!\nStart booking NOW!\n\nRelax while we do the work!\n\n**As a member you are responsible for the details on this site.  The information shared is for your purpose only and not to be shared.
URL:https://gracie-events.com/event/oscar-viewing-dinner-party/
LOCATION:Hollywood\, United States
CATEGORIES:Club Members ONLY
ORGANIZER;CN="Opulent%20Events%20by%20Gracie":MAILTO:info@opulenteventsbygracie.com
END:VEVENT
END:VCALENDAR